BEGIN:VCALENDAR
VERSION:2.0
PRODID:-//Northwest Nature Shop - ECPv6.8.3//NONSGML v1.0//EN
CALSCALE:GREGORIAN
METHOD:PUBLISH
X-WR-CALNAME:Northwest Nature Shop
X-ORIGINAL-URL:https://northwestnatureshop.com
X-WR-CALDESC:Events for Northwest Nature Shop
REFRESH-INTERVAL;VALUE=DURATION:PT1H
X-Robots-Tag:noindex
X-PUBLISHED-TTL:PT1H
BEGIN:VTIMEZONE
TZID:America/Denver
BEGIN:DAYLIGHT
TZOFFSETFROM:-0700
TZOFFSETTO:-0600
TZNAME:MDT
DTSTART:20250309T090000
END:DAYLIGHT
BEGIN:STANDARD
TZOFFSETFROM:-0600
TZOFFSETTO:-0700
TZNAME:MST
DTSTART:20251102T080000
END:STANDARD
END:VTIMEZONE
BEGIN:VEVENT
DTSTART;TZID=America/Denver:20250423T190000
DTEND;TZID=America/Denver:20250423T200000
DTSTAMP:20260424T103639
CREATED:20250320T221042Z
LAST-MODIFIED:20250320T221042Z
UID:26503-1745434800-1745438400@northwestnatureshop.com
SUMMARY:Social Forestry Presentation by Tomi Hazel Wednesday April 23rd 7 pm
DESCRIPTION:Social Forestry is the cultural way of being engaged with our uplands and margins. Most of modern forestry has been extractive and industrial. We can learn from the landscape what works in the long run while supporting sustainable lifestyles and vernacular art and celebration. Come along for the vision and stories\, stay for the skills and practices. We can become People of Place if we pay attention and close our loops.\nTomi Hazel Vaarde is the pen name of Tom Ward\, a long time citizen of Ashland. Hazel is the cultural name now used in Social Forestry work.  \nArriving in Ashland in the early 70’s Tomi Hazel kept busy in social organizing\, as President and Board Member of several startup non-profits\, including the Ashland Community Food Store\, Ashland Community Health Clinic\, Hokola commune in the Colestine\, and The Last Resort on the Greensprings. Hazel is a founder and member of South Mountain Friends Meetings. In the early 80’s Hazel was instrumental in the Pacific Northwest organizing of Tilth\, Provender\, and Permaculture. Two years as an instructor and administrator at D-Q University in Davis led to many years of teaching the Permaculture Design Course and advanced courses at several institutes in California\, PNW\, South Africa\, Arizona\, Taiwan and Ashland.  \nIn the 1990’s Hazel stewarded “Tom’s Garden Cottage” on upper Bush Street and carried apprentices and tours\, eldered the Wilderness Charter School at Ashland High\, advised and worked for The Rogue Institute of Economy and Ecology. Hazel sat on the Ashland Forestry Commission and advised and worked with Lomakatsii and the Ashland Ranger District. Many organic farms and permaculture homesteads have had the benefit of Hazel’s counsel.  \nFor the last quarter century Hazel has been stewarding a land tending field station and forestry camp at Wolf Gulch Ranch in the Little Applegate canyon.
URL:https://northwestnatureshop.com/event/social-forestry-presentation-by-tomi-hazel-wednesday-april-23rd-7-pm
LOCATION:Northwest Nature Shop\, 154 Oak St.\, Ashland\, OR\, 97520\, United States
CATEGORIES:Slide Show/Lecture
ATTACH;FMTTYPE=image/jpeg:https://northwestnatureshop.com/wp-content/uploads/2025/03/Social-Forestry-Hazel.jpg
END:VEVENT
END:VCALENDAR