BEGIN:VCALENDAR
VERSION:2.0
PRODID:-//Northwest Nature Shop - ECPv6.8.3//NONSGML v1.0//EN
CALSCALE:GREGORIAN
METHOD:PUBLISH
X-WR-CALNAME:Northwest Nature Shop
X-ORIGINAL-URL:https://northwestnatureshop.com
X-WR-CALDESC:Events for Northwest Nature Shop
REFRESH-INTERVAL;VALUE=DURATION:PT1H
X-Robots-Tag:noindex
X-PUBLISHED-TTL:PT1H
BEGIN:VTIMEZONE
TZID:America/Denver
BEGIN:DAYLIGHT
TZOFFSETFROM:-0700
TZOFFSETTO:-0600
TZNAME:MDT
DTSTART:20230312T090000
END:DAYLIGHT
BEGIN:STANDARD
TZOFFSETFROM:-0600
TZOFFSETTO:-0700
TZNAME:MST
DTSTART:20231105T080000
END:STANDARD
END:VTIMEZONE
BEGIN:VEVENT
DTSTART;TZID=America/Denver:20230406T190000
DTEND;TZID=America/Denver:20230406T200000
DTSTAMP:20260421T233508
CREATED:20230215T202812Z
LAST-MODIFIED:20230215T202812Z
UID:24745-1680807600-1680811200@northwestnatureshop.com
SUMMARY:Hiking in Ashland presentation by author Maria Katsantones
DESCRIPTION:Join Maria Katsantones\, author of the best-selling book\, Hiking in Ashland: A Comprehensive\nGuidebook\, for an inspiring presentation that will bring the audience on a virtual hike to enjoy\nthe trails and the magnificent natural world of the Ashland Watershed\, the Cascade-Siskiyou\nNational Monument\, Mount Ashland\, and Ashland parks. The presentation will include excerpts\nfrom the book\, stories of the author’s hiking adventures\, and helpful insights about hiking in\nAshland.
URL:https://northwestnatureshop.com/event/hiking-in-ashland-presentation-by-author-maria-katsantones
LOCATION:Northwest Nature Shop\, 154 Oak St.\, Ashland\, OR\, 97520\, United States
CATEGORIES:Local Author Book Signing,Slide Show/Lecture
ATTACH;FMTTYPE=image/jpeg:https://northwestnatureshop.com/wp-content/uploads/2021/08/hiking-in-ashland-scaled-e1635800804299.jpeg
END:VEVENT
END:VCALENDAR