BEGIN:VCALENDAR
VERSION:2.0
PRODID:-//Northwest Nature Shop - ECPv6.8.3//NONSGML v1.0//EN
CALSCALE:GREGORIAN
METHOD:PUBLISH
X-ORIGINAL-URL:https://northwestnatureshop.com
X-WR-CALDESC:Events for Northwest Nature Shop
REFRESH-INTERVAL;VALUE=DURATION:PT1H
X-Robots-Tag:noindex
X-PUBLISHED-TTL:PT1H
BEGIN:VTIMEZONE
TZID:America/Denver
BEGIN:DAYLIGHT
TZOFFSETFROM:-0700
TZOFFSETTO:-0600
TZNAME:MDT
DTSTART:20160313T090000
END:DAYLIGHT
BEGIN:STANDARD
TZOFFSETFROM:-0600
TZOFFSETTO:-0700
TZNAME:MST
DTSTART:20161106T080000
END:STANDARD
END:VTIMEZONE
BEGIN:VEVENT
DTSTART;TZID=America/Denver:20160514T100000
DTEND;TZID=America/Denver:20160514T140000
DTSTAMP:20260425T214034
CREATED:20160325T195123Z
LAST-MODIFIED:20160325T195123Z
UID:15331-1463220000-1463234400@northwestnatureshop.com
SUMMARY:Beautiful Butterflies and Incredible Insects Hike
DESCRIPTION:Entomologist and Affiliate Professor of Biology at Southern Oregon University Dr. Peter Schroeder will lead a hike to observe and discuss the beautiful butterflies and other incredible insects that live on or flutter by the Table Rocks. On this hike\, Peter will help you gain a deeper appreciation for how butterflies and other insects live and their essential role in the environment. \nHikes are FREE but reservations are required. To sign up online: https://www.eventbrite.com/e/beautiful-butterflies-incredible-insects-registration-22176265808 \nFor more information\, call the Bureau of Land Management at 541.618.2200\, M-F 7:30 a.m. to 4:30 p.m. \nHikes are three to five miles roundtrip along a moderate-grade trail and generally last three to five hours. Participants should dress for the weather\, bring plenty of drinking water (no water source is available on site) and a lunch or snacks. Restrooms are available at both trail heads. To help protect this special place\, dogs\, mountain bikes and OHVs are NOT allowed on the trail. \n 
URL:https://northwestnatureshop.com/event/beautiful-butterflies-and-incredible-insects-hike
LOCATION:Lower Table Rock\, Wheeler Road\, Central Point\, 97502\, United States
CATEGORIES:Hike
END:VEVENT
BEGIN:VEVENT
DTSTART;TZID=America/Denver:20160514T100000
DTEND;TZID=America/Denver:20160514T130000
DTSTAMP:20260425T214034
CREATED:20160329T011555Z
LAST-MODIFIED:20160329T011555Z
UID:15351-1463220000-1463230800@northwestnatureshop.com
SUMMARY:Rogue River Preserve Natural History Hike
DESCRIPTION:Sponsored and led by Southern Oregon Land Conservancy\nREGISTRATION will open on April 14 at 6am. \nGuide: Dave Garcia \nFocus: Natural History of a private property on the Rogue River \nDescription: Explore this special property with naturalist Dave Garcia. This hike will go farther afield than the ecology walk including visiting the northern rocky river access and the slough. If you have them\, bring your binoculars. Southern Oregon Land Conservancy is pursuing an option to purchase this beautiful 352-acre property. \nLimit: 20 \nMeeting Location: Meet in White City to carpool to the Preserve near Dodge Bridge County Park in Eagle Point. Exact meeting location and directions will be emailed upon registration. \nDifficulty: Moderate relatively flat hike on roads\, trails\, and off-trail up to x miles. Weed seeds and ticks may be present so long pants are advised. A portable toilet is available at the preserve. \nTo register: https://www.eventbrite.com/e/rogue-river-preserve-natural-history-hike-registration-22754936628
URL:https://northwestnatureshop.com/event/rogue-river-preserve-natural-history-hike
LOCATION:Rogue River Preserve\, Eagle Point\, OR\, United States
CATEGORIES:Hike
END:VEVENT
BEGIN:VEVENT
DTSTART;TZID=America/Denver:20160508T100000
DTEND;TZID=America/Denver:20160508T140000
DTSTAMP:20260425T214034
CREATED:20160328T205751Z
LAST-MODIFIED:20160328T205916Z
UID:15349-1462701600-1462716000@northwestnatureshop.com
SUMMARY:Cascade Foothills Wildflowers
DESCRIPTION:Sponsored and led by Southern Oregon Land Conservancy\nREGISTRATION will open on April 8 at 6am. To register go to https://www.eventbrite.com/e/cascade-foothills-wildflowers-registration-22754271639 \nGuide: Kristi Mergenthaler \nFocus: Wildflowers & Conservation Opportunity \nDescription: Hike with botanist\, naturalist and Land Conservancy staff\, Kristi Mergenthaler\, on the beautiful City of Ashland’s Imperatrice property east of Ashland in the Cascade Mountain Foothills. It is a beautiful 825-acre property with darling grassland flowers\, glorious views of the southern Bear Creek Valley\, and hosts a rare breeding colony of grasshopper sparrows. This will be a longer and more strenuous hike than the April 28 visit and the group will visit the oak woodland on the ridge. \nLimit: 15 \nMeeting Location: Near Ashland’s Interstate exit 19 to carpool. Meeting location and directions will be emailed upon registration. \nDifficulty: Challenging uphill\, uneven ground\, off trail walking up to 5 miles. Due to weed seeds and ticks\, long pants and close-toed shoes advised.
URL:https://northwestnatureshop.com/event/cascade-foothills-wildflowers-2
LOCATION:Cascade Mountain Foothills\, OR\, United States
CATEGORIES:Hike
END:VEVENT
BEGIN:VEVENT
DTSTART;TZID=America/Denver:20160507T163000
DTEND;TZID=America/Denver:20160507T190000
DTSTAMP:20260425T214034
CREATED:20160328T161600Z
LAST-MODIFIED:20160328T162525Z
UID:15343-1462638600-1462647600@northwestnatureshop.com
SUMMARY:Tree & Shrub Identification Training
DESCRIPTION:KS Wild’s Adopt a Botanical Area Program is leading a low elevation tree & shrub identification training. Join ABA Coordinator Jeanine Moy\, and Native Plant Society of Oregon\, Siskiyou Chapter President Kristi Mergenthaler for a woody shrub and tree identification walk at the Wagner Creek Loop. \nCarpool leaving from Ray’s Market in Talent at 4:30 PM \nTo sign up contact Jeanine Moy of KS Wild 541-488-5789
URL:https://northwestnatureshop.com/event/tree-and-shrub-identification-training
LOCATION:Wagner Creek Loop\, Talent\, United States
CATEGORIES:Hike
ORGANIZER;CN="KS Wild":MAILTO:jeanine@kswild.org
END:VEVENT
BEGIN:VEVENT
DTSTART;TZID=America/Denver:20160507T090000
DTEND;TZID=America/Denver:20160507T130000
DTSTAMP:20260425T214034
CREATED:20160325T194046Z
LAST-MODIFIED:20160325T200330Z
UID:15329-1462611600-1462626000@northwestnatureshop.com
SUMMARY:Fire on the Rocks! Hike
DESCRIPTION:Join Lomakatsi Restoration Project Field Ecologist Lyndia Hammer and BLM Fire Ecologist Jena Volpe to explore a remarkable diversity of vegetation types and their relationship with fire. The Klamath Region has a long history with fire\, which has been vital to wildlife\, plants and people of the area. Table Rock offers a unique opportunity to investigate a variety of vegetation types of various structure and composition found around the Rogue valley. See examples of recent restoration work in shrublands\, oak savannas\, woodlands and a mixed conifer hardwood forest and learn about how this work might influence future fire relationships. \nHikes are FREE but reservations are required.  To sign up online: https://www.eventbrite.com/e/fire-on-the-rocks-registration-22177196592 \nFor more information\, call the Bureau of Land Management at 541.618.2200\, M-F 7:30 a.m. to 4:30 p.m. \nHikes are three to five miles roundtrip along a moderate-grade trail and generally last three to five hours. Participants should dress for the weather\, bring plenty of drinking water (no water source is available on site) and a lunch or snacks. Restrooms are available at both trail heads. To help protect this special place\, dogs\, mountain bikes and OHVs are NOT allowed on the trail.
URL:https://northwestnatureshop.com/event/fire-on-the-rocks-hike
LOCATION:Upper Table Rock Trailhead\, 10395 Modoc Road\, White City\, OR\, 97503\, United States
CATEGORIES:Hike
ATTACH;FMTTYPE=image/png:https://northwestnatureshop.com/wp-content/uploads/2016/03/Fire-on-the-Rocks.png
END:VEVENT
BEGIN:VEVENT
DTSTART;TZID=America/Denver:20160501T090000
DTEND;TZID=America/Denver:20160501T130000
DTSTAMP:20260425T214034
CREATED:20160325T154431Z
LAST-MODIFIED:20160325T154538Z
UID:15327-1462093200-1462107600@northwestnatureshop.com
SUMMARY:Tribal History and Culture Hike
DESCRIPTION:Cultural Resources Director\, Member and Elected Official of the Confederate Tribes of Siletz Indians Robert Kentta will discuss the history and culture of ancestral tribes who were moved from the Rogue Valley and other parts of Western Oregon to the Siletz Reservation. \nHikes are FREE but reservations are required To sign up online: https://www.eventbrite.com/e/tribal-history-culture-registration-22178085250 \nFor more information\, call the Bureau of Land Management at 541.618.2200\, M-F 7:30 a.m. to 4:30 p.m. \nHikes are three to five miles roundtrip along a moderate-grade trail and generally last three to five hours. Participants should dress for the weather\, bring plenty of drinking water (no water source is available on site) and a lunch or snacks. Restrooms are available at both trail heads. To help protect this special place\, dogs\, mountain bikes and OHVs are NOT allowed on the trail.
URL:https://northwestnatureshop.com/event/tribal-history-and-culture-hike
LOCATION:Lower Table Rock\, Wheeler Road\, Central Point\, 97502\, United States
CATEGORIES:Hike
END:VEVENT
BEGIN:VEVENT
DTSTART;TZID=America/Denver:20160430T100000
DTEND;TZID=America/Denver:20160430T140000
DTSTAMP:20260425T214034
CREATED:20160325T153220Z
LAST-MODIFIED:20160325T154509Z
UID:15326-1462010400-1462024800@northwestnatureshop.com
SUMMARY:Nature on the Rocks – Celebrating 30 Years of Environmental Education!
DESCRIPTION:Join us for a fun-filled day of activities\, hikes and interactive displays suitable for the entire family. Help us celebrate 30 years of successful community engagement and education on the Table Rocks. Public event\, open to all. Please consider carpooling as parking is limited. Additional parking available at Sam’s Valley Elementary School with a shuttle to the Lower Table Rock trail throughout the day. \nFor more information\, call the Bureau of Land Management at 541.618.2200\, M-F 7:30 a.m. to 4:30 p.m. \nHikes are three to five miles roundtrip along a moderate-grade trail and generally last three to five hours. Participants should dress for the weather\, bring plenty of drinking water (no water source is available on site) and a lunch or snacks. Restrooms are available at both trail heads. To help protect this special place\, dogs\, mountain bikes and OHVs are NOT allowed on the trail.
URL:https://northwestnatureshop.com/event/nature-rocks-celebrating-30-years-environmental-education
LOCATION:Lower Table Rock\, Wheeler Road\, Central Point\, 97502\, United States
CATEGORIES:Hike
END:VEVENT
BEGIN:VEVENT
DTSTART;TZID=America/Denver:20160428T160000
DTEND;TZID=America/Denver:20160428T183000
DTSTAMP:20260425T214034
CREATED:20160324T162021Z
LAST-MODIFIED:20160324T164411Z
UID:15298-1461859200-1461868200@northwestnatureshop.com
SUMMARY:Cascade Foothills Wildflowers
DESCRIPTION:Sponsored and led by Southern Oregon Land Conservancy\nREGISTRATION will open on March 28 at 6am.\nTo register: go to https://www.eventbrite.com/e/cascade-foothills-wildflowers-early-evening-registration-22750886514 \nGuide: Kristi Mergenthaler \nFocus: Wildflowers & Conservation Opportunity \nDescription: Hike in the early evening with botanist\, naturalist and Land Conservancy staff\, Kristi Mergenthaler\, on this beautiful property east of Ashland. The City of Ashland’s Imperatrice property\, in the Cascade Mountain Foothills\, is a beautiful 825-acre property with darling grassland flowers\, glorious views of the southern Bear Creek Valley\, and a rare breeding colony of grasshopper sparrows. We hope to work with the City to protect this special property. \nLimit: 15 Meeting \nLocation: Near Ashland’s Interstate exit 19 to carpool. Meeting location and directions will be emailed upon registration. \nDifficulty: Moderately challenging uphill\, uneven ground\, off trail walking. Due to weed seeds and ticks\, long pants advised.
URL:https://northwestnatureshop.com/event/cascade-foothills-wildflowers
LOCATION:Cascade Mountain Foothills\, OR\, United States
CATEGORIES:Hike
END:VEVENT
BEGIN:VEVENT
DTSTART;TZID=America/Denver:20160424T120000
DTEND;TZID=America/Denver:20160424T150000
DTSTAMP:20260425T214034
CREATED:20160324T160210Z
LAST-MODIFIED:20160324T160210Z
UID:15295-1461499200-1461510000@northwestnatureshop.com
SUMMARY:Earth Day: Celebrating Our Public Lands
DESCRIPTION:Hike and Happy Hour at the Greensprings\nCelebrate Earth Day and get out to enjoy your public lands! KS Wild will gather and hike a 2 mile loop with scenic views of the Rogue Valley\, enjoying early spring wildflowers and birds. Afterwards\, we’ll mingle at the Greensprings Inn (private party) for happy hour and snacks. \nHosted by KS Wild\, Soda Mountain Wilderness Council\, and the Greensprings Inn. \nSupported by: Bouldering Badger Media and Native Plant Society of Oregon\, Siskiyou Chapter\, Rogue Valley Audubon Society\, Friends of the Cascade Siskiyou National Monument \n12:00 pm – Car pool from Shop N’ Kart \n12:30 pm – Meet at Greensprings Loop Trailhead \n3:00-500 pm Happy Hour at the Greensprings Inn \nFor more information contact Jeanine Moy 541-488-5789
URL:https://northwestnatureshop.com/event/earth-day-celebrating-our-public-lands
LOCATION:Greensprings Loop Trail\, OR\, United States
CATEGORIES:Hike
ORGANIZER;CN="KS Wild":MAILTO:jeanine@kswild.org
END:VEVENT
BEGIN:VEVENT
DTSTART;TZID=America/Denver:20160423T100000
DTEND;TZID=America/Denver:20160423T130000
DTSTAMP:20260425T214034
CREATED:20160324T154902Z
LAST-MODIFIED:20160324T154925Z
UID:15294-1461405600-1461416400@northwestnatureshop.com
SUMMARY:Rogue River Preserve Ecology Walk
DESCRIPTION:Sponsored and led by Southern Oregon Land Conservancy\nGuide: Dr. Tom Atzet \nFocus: Ecology of a private property on the Rogue River \nDescription: Walk the oak woodlands\, vernal pools and an impressive riparian forest along the Rogue River near Eagle Point with one of the most popular hike guides in our region\, forest ecologist Dr. Tom Atzet. Southern Oregon Land Conservancy is pursuing an option to purchase this beautiful 352-acre property. \nLimit: 20 \nMeeting Location: Meet in White City to carpool to the Preserve near Dodge Bridge County Park in Eagle Point. Exact meeting location and directions will be emailed upon registration. \nDifficulty: Moderately easy and flat at a slow walking pace on roads\, trails\, and off-trail. Weed seeds and ticks may be present so long pants are advised. A portable toilet is available at the preserve. \nTo register: go to https://www.eventbrite.com/e/rogue-river-preserve-ecology-walk-registration-22749681911
URL:https://northwestnatureshop.com/event/rogue-river-preserve-ecology-walk
LOCATION:Rogue River Preserve\, Eagle Point\, OR\, United States
CATEGORIES:Ecology,Hike
END:VEVENT
BEGIN:VEVENT
DTSTART;TZID=America/Denver:20160423T090000
DTEND;TZID=America/Denver:20160423T130000
DTSTAMP:20260425T214034
CREATED:20160324T231103Z
LAST-MODIFIED:20160324T231103Z
UID:15325-1461402000-1461416400@northwestnatureshop.com
SUMMARY:Legacy of a Landmark Hike
DESCRIPTION:Jeff LaLande\, retired archaeologist and historian for the Rogue River-Siskiyou National Forest\, will discuss the role of the Table Rocks in the culture and legends of the Takelma Indians\, as well as the history of the Table Rocks area during the “Indian Wars” of the 1850s. \nHikes are FREE but reservations are required. To sign up online: https://www.eventbrite.com/e/legacy-of-a-landmark-registration-21972248587 \nFor more information\, call the Bureau of Land Management at 541.618.2200\, M-F 7:30 a.m. to 4:30 p.m. \nHikes are three to five miles roundtrip along a moderate-grade trail and generally last three to five hours. Participants should dress for the weather\, bring plenty of drinking water (no water source is available on site) and a lunch or snacks. Restrooms are available at both trail heads. To help protect this special place\, dogs\, mountain bikes and OHVs are NOT allowed on the trail.
URL:https://northwestnatureshop.com/event/legacy-of-a-landmark-hike
LOCATION:Lower Table Rock\, Wheeler Road\, Central Point\, 97502\, United States
CATEGORIES:Hike
END:VEVENT
BEGIN:VEVENT
DTSTART;TZID=America/Denver:20160423T080000
DTEND;TZID=America/Denver:20160423T120000
DTSTAMP:20260425T214034
CREATED:20160324T202425Z
LAST-MODIFIED:20160324T202425Z
UID:15302-1461398400-1461412800@northwestnatureshop.com
SUMMARY:For The Early Birds Hike
DESCRIPTION:Join local bird experts Bob Quaccia\, with Rogue Valley Audubon\, and Frank Lospalluto\, with Klamath Bird Observatory\, to view the spring birds of Table Rocks. Learn I.D. tips and conservation information. Bring binoculars and I.D. books if you desire. Space is limited to 15 individuals. \nHikes are FREE but reservations are required. To sign up online: https://www.eventbrite.com/e/for-the-early-birds-registration-21971922612 \nFor more information\, call the Bureau of Land Management at 541.618.2200\, M-F 7:30 a.m. to 4:30 p.m. \nHikes are three to five miles roundtrip along a moderate-grade trail and generally last three to five hours. Participants should dress for the weather\, bring plenty of drinking water (no water source is available on site) and a lunch or snacks. Restrooms are available at both trail heads. To help protect this special place\, dogs\, mountain bikes and OHVs are NOT allowed on the trail.
URL:https://northwestnatureshop.com/event/for-the-early-birds-hike
LOCATION:Lower Table Rock\, Wheeler Road\, Central Point\, 97502\, United States
CATEGORIES:Hike
END:VEVENT
BEGIN:VEVENT
DTSTART;TZID=America/Denver:20160420T090000
DTEND;TZID=America/Denver:20160420T130000
DTSTAMP:20260425T214034
CREATED:20160324T151702Z
LAST-MODIFIED:20160324T151702Z
UID:15289-1461142800-1461157200@northwestnatureshop.com
SUMMARY:Hike Upper Table Rock
DESCRIPTION:Sponsored by Southern Oregon Land Conservancy\nGuide: BLM interpreters \nFocus: Ecology\, History\, Geology \nDescription: Learn about this iconic rock while hiking 2.5 miles roundtrip. Each April\, the Land Conservancy hosts a special trip to the Table Rocks in cooperation with the BLM. After all\, it was the conservation of Lower Table Rock back in 1978 that provided the groundswell of local interest in starting the Southern Oregon Land Conservancy. Please join us for this 38th Anniversary Hike to Lower Table Rock! The trail is 1.75 miles long and is a moderately difficult. A BLM Interpreter will share information at stops along the way up to the top. Interpretation includes geology – the formation of the Table Rocks\, conservation\, history\, and the flora and fauna found alongside the trail. Expect singing birds\, beautiful flowers\, and outstanding views from the top. Water is not available along the trail or at the trailhead. Allow approximately 4 hours for the round trip hike. We will eat lunch on top and return down the trail to the cars by 1:00pm \nLimit: 25 \nMeeting Location: Meet at the Upper Table Rock Trailhead. Directions will be emailed upon registration. \nDifficulty: Moderate 2.5 mile loop. A restroom is available at trailhead. \nTo Register:  go to https://www.eventbrite.com/e/hike-upper-table-rock-registration-22713532788
URL:https://northwestnatureshop.com/event/hike-upper-table-rock
LOCATION:Upper Table Rock Trailhead\, 10395 Modoc Road\, White City\, OR\, 97503\, United States
CATEGORIES:Hike
END:VEVENT
BEGIN:VEVENT
DTSTART;TZID=America/Denver:20160417T090000
DTEND;TZID=America/Denver:20160417T130000
DTSTAMP:20260425T214034
CREATED:20160324T200415Z
LAST-MODIFIED:20160324T203054Z
UID:15301-1460883600-1460898000@northwestnatureshop.com
SUMMARY:Spring in Bloom Hike
DESCRIPTION:Join Chamise Kramer\, avid botanist and Public Affairs Specialist with the Rogue River National Forest\, and Molly Allen\, BLM Environmental Educator\, to explore the valley’s beautiful native flora\, wildflowers\, and natural history of the Table Rocks. \nHikes are FREE but reservations are required.  Register online: https://www.eventbrite.com/e/spring-in-bloom-registration-21971653808?aff=erellivmlt \nFor more information\, call the Bureau of Land Management at 541.618.2200\, M-F 7:30 a.m. to 4:30 p.m. \nHikes are three to five miles roundtrip along a moderate-grade trail and generally last three to five hours. Participants should dress for the weather\, bring plenty of drinking water (no water source is available on site) and a lunch or snacks. Restrooms are available at both trail heads. To help protect this special place\, dogs\, mountain bikes and OHVs are NOT allowed on the trail.
URL:https://northwestnatureshop.com/event/spring-in-bloom-hike
LOCATION:Upper Table Rock Trailhead\, 10395 Modoc Road\, White City\, OR\, 97503\, United States
CATEGORIES:Hike
END:VEVENT
BEGIN:VEVENT
DTSTART;TZID=America/Denver:20160410T090000
DTEND;TZID=America/Denver:20160410T130000
DTSTAMP:20260425T214034
CREATED:20160323T154913Z
LAST-MODIFIED:20160323T154913Z
UID:15251-1460278800-1460293200@northwestnatureshop.com
SUMMARY:Wildflowers Abound Hike
DESCRIPTION:Barbara Mumblo\, botanist emerita with the U.S. Forest Service\, Siskiyou Mountains Ranger District and member of the Native Plant Society of Oregon\, will lead a hike to discover the dazzling array of wildflowers found on the Table Rocks. \nHikes are FREE but reservations are required.  Register online: https://www.eventbrite.com/e/wildflowers-abound-registration-21742899598 \nFor more information\, call the Bureau of Land Management at 541.618.2200\, M-F 7:30 a.m. to 4:30 p.m. \nHikes are three to five miles roundtrip along a moderate-grade trail and generally last three to five hours. Participants should dress for the weather\, bring plenty of drinking water (no water source is available on site) and a lunch or snacks. Restrooms are available at both trail heads. To help protect this special place\, dogs\, mountain bikes and OHVs are NOT allowed on the trail.
URL:https://northwestnatureshop.com/event/wildflowers-abound-hike
LOCATION:Lower Table Rock\, Wheeler Road\, Central Point\, 97502\, United States
CATEGORIES:Hike
END:VEVENT
END:VCALENDAR