BEGIN:VCALENDAR
VERSION:2.0
PRODID:-//Northwest Nature Shop - ECPv6.8.3//NONSGML v1.0//EN
CALSCALE:GREGORIAN
METHOD:PUBLISH
X-WR-CALNAME:Northwest Nature Shop
X-ORIGINAL-URL:https://northwestnatureshop.com
X-WR-CALDESC:Events for Northwest Nature Shop
REFRESH-INTERVAL;VALUE=DURATION:PT1H
X-Robots-Tag:noindex
X-PUBLISHED-TTL:PT1H
BEGIN:VTIMEZONE
TZID:America/Denver
BEGIN:DAYLIGHT
TZOFFSETFROM:-0700
TZOFFSETTO:-0600
TZNAME:MDT
DTSTART:20260308T090000
END:DAYLIGHT
BEGIN:STANDARD
TZOFFSETFROM:-0600
TZOFFSETTO:-0700
TZNAME:MST
DTSTART:20261101T080000
END:STANDARD
END:VTIMEZONE
BEGIN:VEVENT
DTSTART;TZID=America/Denver:20260502T100000
DTEND;TZID=America/Denver:20260502T150000
DTSTAMP:20260425T200920
CREATED:20240309T205639Z
LAST-MODIFIED:20260425T210028Z
UID:25724-1777716000-1777734000@northwestnatureshop.com
SUMMARY:Guided Spring Mushroom Walk on Saturday May 2nd
DESCRIPTION:Spend the day searching for wild fungi with local mushroom expert\, Mike Potts on Saturday\, May 2nd. Springtime in the southern Oregon Cascades offers an abundance of beautiful mushrooms\, including some of the most sought-after wild mushrooms in the world. We will encounter edible and poisonous varieties and learn identifying features to confidently harvest your own wild edible mushrooms. Participants will meet at NW Nature Shop at 10 am and travel to the foraging location (approximately 45 minute drive from Ashland).  Return to Ashland by 3:00 pm.  The location of each hike will be disclosed at a later date to give us flexibility in planning around weather and mushroom abundance. \nCost is $55 per participant. Children accompanied by adults are free. Be prepared for adverse weather. Wear appropriate hiking shoes (We will be doing some off-trail walking on uneven terrain)\, bring a water bottle\, lunch\, pocket knife\, non-plastic collecting bag or basket\, rain gear\, a mushroom ID book if you have one\, and a whistle.\n2 dates offered:  Saturday May 2nd and Saturday May 9th.\nSpace is limited to 10 participants so sign up early! Call 541-482-3241 to sign up\, stop by NW Nature Shop during business hours (10 am-6pm)\, or email northwestnatureshop@gmail.com \nPayment must be received at time of registration.
URL:https://northwestnatureshop.com/event/guided-spring-mushroom-walk-on-saturday-may-4th
LOCATION:Cascade Mountain Foothills\, OR\, United States
CATEGORIES:Ecology,Hike,Mushroom Foraging
ATTACH;FMTTYPE=image/jpeg:https://northwestnatureshop.com/wp-content/uploads/2024/03/mushroom-walk-saturday-may-2-x-2-scaled.jpeg
END:VEVENT
END:VCALENDAR