BEGIN:VCALENDAR
VERSION:2.0
PRODID:-//Northwest Nature Shop - ECPv6.8.3//NONSGML v1.0//EN
CALSCALE:GREGORIAN
METHOD:PUBLISH
X-WR-CALNAME:Northwest Nature Shop
X-ORIGINAL-URL:https://northwestnatureshop.com
X-WR-CALDESC:Events for Northwest Nature Shop
REFRESH-INTERVAL;VALUE=DURATION:PT1H
X-Robots-Tag:noindex
X-PUBLISHED-TTL:PT1H
BEGIN:VTIMEZONE
TZID:America/Denver
BEGIN:DAYLIGHT
TZOFFSETFROM:-0700
TZOFFSETTO:-0600
TZNAME:MDT
DTSTART:20220313T090000
END:DAYLIGHT
BEGIN:STANDARD
TZOFFSETFROM:-0600
TZOFFSETTO:-0700
TZNAME:MST
DTSTART:20221106T080000
END:STANDARD
END:VTIMEZONE
BEGIN:VEVENT
DTSTART;TZID=America/Denver:20221202T173000
DTEND;TZID=America/Denver:20221202T200000
DTSTAMP:20260421T190732
CREATED:20221025T214841Z
LAST-MODIFIED:20221202T061917Z
UID:24436-1670002200-1670011200@northwestnatureshop.com
SUMMARY:December First Friday:  Book Signings and Santa
DESCRIPTION:Meet two of our favorite field guide authors at December First Friday\, PLUS Santa.  It seems like too much but we’re thrilled to host all three of these special guests. \nMichael Kauffman\, author of Klamath Mountains: A Natural History and Richard Crossley\, author of the birding guide series Crossley’s ID Guides will both be in Ashland for presentations and both have agreed to come to the shop together to answer questions and sign books from 6-8 pm. \n5-6 pm Bekkah McAlvage plays a mix of original country folk tunes and American roots music. \nSanta Claus will also visit us from 6-7:30 pm. \nSultan’s Delight will be offering fresh\, delicious falafels\, lamb and beef gyros\, kabobs and salads for sale.
URL:https://northwestnatureshop.com/event/december-first-friday-book-signings-and-santa
LOCATION:OR
CATEGORIES:First Friday,First Friday Artwalk,Local Author Book Signing,Seasonal Event At Northwest Nature Shop
ATTACH;FMTTYPE=image/jpeg:https://northwestnatureshop.com/wp-content/uploads/2022/10/December-First-Friday.jpg
END:VEVENT
BEGIN:VEVENT
DTSTART;TZID=America/Denver:20221202T180000
DTEND;TZID=America/Denver:20221202T200000
DTSTAMP:20260421T190732
CREATED:20221025T193010Z
LAST-MODIFIED:20221129T212427Z
UID:24431-1670004000-1670011200@northwestnatureshop.com
SUMMARY:Booksigning First Friday December 2nd
DESCRIPTION:Filled with mystery conjured by unparalleled biodiversity\, the Klamath Mountains tell numerous\nstories of evolution and resilience shaped over long periods of time. Geology is the defining\ncharacter of this range\, with numerous smaller ranges—including the Siskiyou\, Marble\, and\nTrinity mountains—forming a jigsaw puzzle of big-shouldered river canyons and sharp ridgelines.\nWithin the Klamath Knot\, geology also shapes climate with wet coastal rainforests in the west\nand dry semi-deserts in the east. \nMichael Kauffmann and Justin Garwood co-edited a new work titled The Klamath Mountains: A\nNatural History with the help of 32 other authors. Experts in all aspects of the region’s natural\nhistory came together and are the first to tell the entire story. \n  \nMichael and Justin will be discussing and signing books on December 2nd at the Northwest\nNature Shop from 6 to 8 pm and on December 3rd will be presenting at Southern Oregon University from 7-9pm.\nThese events are co-sponsored by the Northwest Nature Shop\, Rogue Valley Audubon Society\,\nand KS Wild.
URL:https://northwestnatureshop.com/event/the-klamath-mountains-a-natural-history-booksigning-first-friday-december-2nd
LOCATION:Northwest Nature Shop\, 154 Oak St.\, Ashland\, OR\, 97520\, United States
CATEGORIES:First Friday,Local Author Book Signing
ATTACH;FMTTYPE=image/jpeg:https://northwestnatureshop.com/wp-content/uploads/2022/10/Front-Klamath-Mountains.jpg
END:VEVENT
END:VCALENDAR